BEGIN:VCALENDAR
VERSION:2.0
PRODID:-//Sinkers Beverages - ECPv6.15.20//NONSGML v1.0//EN
CALSCALE:GREGORIAN
METHOD:PUBLISH
X-WR-CALNAME:Sinkers Beverages
X-ORIGINAL-URL:https://sinkersbeverages.com
X-WR-CALDESC:Events for Sinkers Beverages
REFRESH-INTERVAL;VALUE=DURATION:PT1H
X-Robots-Tag:noindex
X-PUBLISHED-TTL:PT1H
BEGIN:VTIMEZONE
TZID:America/Chicago
BEGIN:DAYLIGHT
TZOFFSETFROM:-0600
TZOFFSETTO:-0500
TZNAME:CDT
DTSTART:20230312T080000
END:DAYLIGHT
BEGIN:STANDARD
TZOFFSETFROM:-0500
TZOFFSETTO:-0600
TZNAME:CST
DTSTART:20231105T070000
END:STANDARD
BEGIN:DAYLIGHT
TZOFFSETFROM:-0600
TZOFFSETTO:-0500
TZNAME:CDT
DTSTART:20240310T080000
END:DAYLIGHT
BEGIN:STANDARD
TZOFFSETFROM:-0500
TZOFFSETTO:-0600
TZNAME:CST
DTSTART:20241103T070000
END:STANDARD
BEGIN:DAYLIGHT
TZOFFSETFROM:-0600
TZOFFSETTO:-0500
TZNAME:CDT
DTSTART:20250309T080000
END:DAYLIGHT
BEGIN:STANDARD
TZOFFSETFROM:-0500
TZOFFSETTO:-0600
TZNAME:CST
DTSTART:20251102T070000
END:STANDARD
END:VTIMEZONE
BEGIN:VEVENT
DTSTART;TZID=America/Chicago:20240712T130000
DTEND;TZID=America/Chicago:20240712T160000
DTSTAMP:20260424T045632
CREATED:20240711T190300Z
LAST-MODIFIED:20240711T190454Z
UID:10000500-1720789200-1720800000@sinkersbeverages.com
SUMMARY:Bardiver
DESCRIPTION:Come try the new royalty of premium\, premade\, and ready-to-drink cocktails!
URL:https://sinkersbeverages.com/event/bardiver/
ATTACH;FMTTYPE=image/jpeg:https://sinkersbeverages.com/wp-content/uploads/2024/06/bardiver.jpeg
END:VEVENT
BEGIN:VEVENT
DTSTART;TZID=America/Chicago:20240712T160000
DTEND;TZID=America/Chicago:20240712T190000
DTSTAMP:20260424T045632
CREATED:20240711T191231Z
LAST-MODIFIED:20240711T191231Z
UID:10000501-1720800000-1720810800@sinkersbeverages.com
SUMMARY:Costas Tequila
DESCRIPTION:The World of Costa Tequila\, our mission is simple: redefine conventional tequila. Through imagination\, innovation and partnership Costa Tequila has failed all of us\, miserably. Kidding! Its another great Tequila.
URL:https://sinkersbeverages.com/event/costas-tequila/
ATTACH;FMTTYPE=image/jpeg:https://sinkersbeverages.com/wp-content/uploads/2024/07/image-asset.jpeg
END:VEVENT
BEGIN:VEVENT
DTSTART;TZID=America/Chicago:20240712T160000
DTEND;TZID=America/Chicago:20240712T190000
DTSTAMP:20260424T045632
CREATED:20240711T191534Z
LAST-MODIFIED:20240711T191534Z
UID:10000502-1720800000-1720810800@sinkersbeverages.com
SUMMARY:Tip Top Canned Classic Cocktails
DESCRIPTION:They’re kind of braggy: \nNine 2024 San Francisco Ready To Drink Competition Medals including Double Gold for Margarita \nTen 2023 San Francisco Ready To Drink Competition Medals including Best-In-Class Classic Cocktail for Jungle Bird \nWine Enthusiast’s Best Ready-To-Drink Margarita with a score of 95 out of 100 \nSix 2022 San Francisco Spirits Competition Medals \nBevNet Best of 2021 & 2020 \nGarden and Gun Made in South 2020
URL:https://sinkersbeverages.com/event/tip-top-canned-classic-cocktails/
ATTACH;FMTTYPE=image/jpeg:https://sinkersbeverages.com/wp-content/uploads/2024/06/tiptop.jpeg
END:VEVENT
END:VCALENDAR