BEGIN:VCALENDAR
VERSION:2.0
PRODID:-//Sinkers Beverages - ECPv6.15.20//NONSGML v1.0//EN
CALSCALE:GREGORIAN
METHOD:PUBLISH
X-WR-CALNAME:Sinkers Beverages
X-ORIGINAL-URL:https://sinkersbeverages.com
X-WR-CALDESC:Events for Sinkers Beverages
REFRESH-INTERVAL;VALUE=DURATION:PT1H
X-Robots-Tag:noindex
X-PUBLISHED-TTL:PT1H
BEGIN:VTIMEZONE
TZID:America/Chicago
BEGIN:DAYLIGHT
TZOFFSETFROM:-0600
TZOFFSETTO:-0500
TZNAME:CDT
DTSTART:20230312T080000
END:DAYLIGHT
BEGIN:STANDARD
TZOFFSETFROM:-0500
TZOFFSETTO:-0600
TZNAME:CST
DTSTART:20231105T070000
END:STANDARD
BEGIN:DAYLIGHT
TZOFFSETFROM:-0600
TZOFFSETTO:-0500
TZNAME:CDT
DTSTART:20240310T080000
END:DAYLIGHT
BEGIN:STANDARD
TZOFFSETFROM:-0500
TZOFFSETTO:-0600
TZNAME:CST
DTSTART:20241103T070000
END:STANDARD
BEGIN:DAYLIGHT
TZOFFSETFROM:-0600
TZOFFSETTO:-0500
TZNAME:CDT
DTSTART:20250309T080000
END:DAYLIGHT
BEGIN:STANDARD
TZOFFSETFROM:-0500
TZOFFSETTO:-0600
TZNAME:CST
DTSTART:20251102T070000
END:STANDARD
END:VTIMEZONE
BEGIN:VEVENT
DTSTART;TZID=America/Chicago:20240808T160000
DTEND;TZID=America/Chicago:20240808T180000
DTSTAMP:20260424T062315
CREATED:20240806T215342Z
LAST-MODIFIED:20240806T215342Z
UID:10000525-1723132800-1723140000@sinkersbeverages.com
SUMMARY:Monk's Road Gin
DESCRIPTION:Great gin from Kentucky.
URL:https://sinkersbeverages.com/event/monks-road-gin/
ATTACH;FMTTYPE=image/jpeg:https://sinkersbeverages.com/wp-content/uploads/2024/08/monks.jpeg
END:VEVENT
END:VCALENDAR