BEGIN:VCALENDAR
VERSION:2.0
PRODID:-//Sinkers Beverages - ECPv6.15.20//NONSGML v1.0//EN
CALSCALE:GREGORIAN
METHOD:PUBLISH
X-WR-CALNAME:Sinkers Beverages
X-ORIGINAL-URL:https://sinkersbeverages.com
X-WR-CALDESC:Events for Sinkers Beverages
REFRESH-INTERVAL;VALUE=DURATION:PT1H
X-Robots-Tag:noindex
X-PUBLISHED-TTL:PT1H
BEGIN:VTIMEZONE
TZID:America/Chicago
BEGIN:DAYLIGHT
TZOFFSETFROM:-0600
TZOFFSETTO:-0500
TZNAME:CDT
DTSTART:20230312T080000
END:DAYLIGHT
BEGIN:STANDARD
TZOFFSETFROM:-0500
TZOFFSETTO:-0600
TZNAME:CST
DTSTART:20231105T070000
END:STANDARD
BEGIN:DAYLIGHT
TZOFFSETFROM:-0600
TZOFFSETTO:-0500
TZNAME:CDT
DTSTART:20240310T080000
END:DAYLIGHT
BEGIN:STANDARD
TZOFFSETFROM:-0500
TZOFFSETTO:-0600
TZNAME:CST
DTSTART:20241103T070000
END:STANDARD
BEGIN:DAYLIGHT
TZOFFSETFROM:-0600
TZOFFSETTO:-0500
TZNAME:CDT
DTSTART:20250309T080000
END:DAYLIGHT
BEGIN:STANDARD
TZOFFSETFROM:-0500
TZOFFSETTO:-0600
TZNAME:CST
DTSTART:20251102T070000
END:STANDARD
END:VTIMEZONE
BEGIN:VEVENT
DTSTART;TZID=America/Chicago:20240718T160000
DTEND;TZID=America/Chicago:20240718T180000
DTSTAMP:20260422T075021
CREATED:20240716T193110Z
LAST-MODIFIED:20240716T201808Z
UID:10000507-1721318400-1721325600@sinkersbeverages.com
SUMMARY:Epic Western
DESCRIPTION:Tequila based canned drinks from ATX.
URL:https://sinkersbeverages.com/event/epic-western/
ATTACH;FMTTYPE=image/png:https://sinkersbeverages.com/wp-content/uploads/2022/11/Epic-Western.png
END:VEVENT
BEGIN:VEVENT
DTSTART;TZID=America/Chicago:20240718T160000
DTEND;TZID=America/Chicago:20240718T180000
DTSTAMP:20260422T075021
CREATED:20240716T194036Z
LAST-MODIFIED:20240716T194417Z
UID:10000508-1721318400-1721325600@sinkersbeverages.com
SUMMARY:Jackalope Brewery
DESCRIPTION:One of our favorite local beers!
URL:https://sinkersbeverages.com/event/jackalope-brewery/
ATTACH;FMTTYPE=image/png:https://sinkersbeverages.com/wp-content/uploads/2023/04/jackalope.png
END:VEVENT
BEGIN:VEVENT
DTSTART;TZID=America/Chicago:20240719T120000
DTEND;TZID=America/Chicago:20240719T150000
DTSTAMP:20260422T075021
CREATED:20240716T194841Z
LAST-MODIFIED:20240716T194841Z
UID:10000509-1721390400-1721401200@sinkersbeverages.com
SUMMARY:Campesino Rum
DESCRIPTION:It’s rum season\, people.
URL:https://sinkersbeverages.com/event/campesino-rum/
ATTACH;FMTTYPE=image/jpeg:https://sinkersbeverages.com/wp-content/uploads/2024/07/campesino.jpeg
END:VEVENT
BEGIN:VEVENT
DTSTART;TZID=America/Chicago:20240719T150000
DTEND;TZID=America/Chicago:20240719T180000
DTSTAMP:20260422T075021
CREATED:20240716T195139Z
LAST-MODIFIED:20240716T195139Z
UID:10000510-1721401200-1721412000@sinkersbeverages.com
SUMMARY:YoCo Vodka
DESCRIPTION:Yo Co stands for Young Country. They make Vodka.
URL:https://sinkersbeverages.com/event/yoco-vodka-3/
ATTACH;FMTTYPE=image/jpeg:https://sinkersbeverages.com/wp-content/uploads/2024/04/yoco.jpeg
END:VEVENT
BEGIN:VEVENT
DTSTART;TZID=America/Chicago:20240719T160000
DTEND;TZID=America/Chicago:20240719T180000
DTSTAMP:20260422T075021
CREATED:20240716T195448Z
LAST-MODIFIED:20240716T195448Z
UID:10000511-1721404800-1721412000@sinkersbeverages.com
SUMMARY:Standard Proof
DESCRIPTION:They make flavored whiskey.
URL:https://sinkersbeverages.com/event/standard-proof/
ATTACH;FMTTYPE=image/jpeg:https://sinkersbeverages.com/wp-content/uploads/2022/08/Standard-Proof.jpg
END:VEVENT
BEGIN:VEVENT
DTSTART;TZID=America/Chicago:20240719T160000
DTEND;TZID=America/Chicago:20240719T180000
DTSTAMP:20260422T075021
CREATED:20240716T195813Z
LAST-MODIFIED:20240716T195813Z
UID:10000512-1721404800-1721412000@sinkersbeverages.com
SUMMARY:Abita Brewing
DESCRIPTION:Stop by to try some tasty beers from Abita!
URL:https://sinkersbeverages.com/event/abita-brewing/
ATTACH;FMTTYPE=image/jpeg:https://sinkersbeverages.com/wp-content/uploads/2024/07/abita.jpeg
END:VEVENT
BEGIN:VEVENT
DTSTART;TZID=America/Chicago:20240720T120000
DTEND;TZID=America/Chicago:20240720T150000
DTSTAMP:20260422T075021
CREATED:20240716T200003Z
LAST-MODIFIED:20240716T200003Z
UID:10000513-1721476800-1721487600@sinkersbeverages.com
SUMMARY:Angel's Envy Bourbon
DESCRIPTION:It’s heavenly!
URL:https://sinkersbeverages.com/event/angels-envy-bourbon/
ATTACH;FMTTYPE=image/jpeg:https://sinkersbeverages.com/wp-content/uploads/2022/08/angelsenvy.jpg
END:VEVENT
BEGIN:VEVENT
DTSTART;TZID=America/Chicago:20240720T120000
DTEND;TZID=America/Chicago:20240720T150000
DTSTAMP:20260422T075021
CREATED:20240716T201639Z
LAST-MODIFIED:20240716T201639Z
UID:10000514-1721476800-1721487600@sinkersbeverages.com
SUMMARY:Foundry Nation THC Drinks
DESCRIPTION:Foundry Nation LLC is a Minnesota-based company that focuses on delivering top of the line quality sodas.
URL:https://sinkersbeverages.com/event/foundry-nation-thc-drinks/
ATTACH;FMTTYPE=image/jpeg:https://sinkersbeverages.com/wp-content/uploads/2024/07/foundry.jpeg
END:VEVENT
BEGIN:VEVENT
DTSTART;TZID=America/Chicago:20240720T160000
DTEND;TZID=America/Chicago:20240720T190000
DTSTAMP:20260422T075021
CREATED:20240716T202135Z
LAST-MODIFIED:20240716T202135Z
UID:10000515-1721491200-1721502000@sinkersbeverages.com
SUMMARY:High Rise
DESCRIPTION:Great Cannabis THC and CBD drinks from Charleston SC.
URL:https://sinkersbeverages.com/event/high-rise-2/
ATTACH;FMTTYPE=image/jpeg:https://sinkersbeverages.com/wp-content/uploads/2024/04/Unknown-3.jpeg
END:VEVENT
BEGIN:VEVENT
DTSTART;TZID=America/Chicago:20240720T160000
DTEND;TZID=America/Chicago:20240720T190000
DTSTAMP:20260422T075021
CREATED:20240716T202337Z
LAST-MODIFIED:20240719T200812Z
UID:10000516-1721491200-1721502000@sinkersbeverages.com
SUMMARY:Garage Beer
DESCRIPTION:Beer! Yay!
URL:https://sinkersbeverages.com/event/garage-bar/
ATTACH;FMTTYPE=image/jpeg:https://sinkersbeverages.com/wp-content/uploads/2024/04/GARAGEBEER.jpeg
END:VEVENT
BEGIN:VEVENT
DTSTART;TZID=America/Chicago:20240723T160000
DTEND;TZID=America/Chicago:20240723T180000
DTSTAMP:20260422T075021
CREATED:20240719T191306Z
LAST-MODIFIED:20240719T191306Z
UID:10000517-1721750400-1721757600@sinkersbeverages.com
SUMMARY:Luna Nuda Wines
DESCRIPTION:These Italian wines are terrific.
URL:https://sinkersbeverages.com/event/luna-nuda-wines-3/
ATTACH;FMTTYPE=image/webp:https://sinkersbeverages.com/wp-content/uploads/2024/05/luna-nuda-prosecco-2-web.webp
END:VEVENT
BEGIN:VEVENT
DTSTART;TZID=America/Chicago:20240725T150000
DTEND;TZID=America/Chicago:20240725T180000
DTSTAMP:20260422T075021
CREATED:20240719T195736Z
LAST-MODIFIED:20240719T200706Z
UID:10000518-1721919600-1721930400@sinkersbeverages.com
SUMMARY:Climbing Kites Cannabis Beverages
DESCRIPTION:Climbing Kites is a THC Infused Social Beverage that will having you feeling all of the buzz with none of the booze. \nThat’s right: drink socially and skip the hangover. What could be better?
URL:https://sinkersbeverages.com/event/climbing-kites-cannabis-beverages/
ATTACH;FMTTYPE=image/avif:https://sinkersbeverages.com/wp-content/uploads/2024/07/climbing.avif
END:VEVENT
BEGIN:VEVENT
DTSTART;TZID=America/Chicago:20240731T160000
DTEND;TZID=America/Chicago:20240731T180000
DTSTAMP:20260422T075021
CREATED:20240726T185505Z
LAST-MODIFIED:20240726T185614Z
UID:10000519-1722441600-1722448800@sinkersbeverages.com
SUMMARY:Find Wunder
DESCRIPTION:One of our favorite cannabis drinks with great flavors.
URL:https://sinkersbeverages.com/event/find-wunder-2/
ATTACH;FMTTYPE=image/png:https://sinkersbeverages.com/wp-content/uploads/2024/05/find-wunder-find-wunder-higher-vibes-watermelon-ba.jpg.png
END:VEVENT
BEGIN:VEVENT
DTSTART;TZID=America/Chicago:20240802T160000
DTEND;TZID=America/Chicago:20240802T180000
DTSTAMP:20260422T075021
CREATED:20240726T185945Z
LAST-MODIFIED:20240726T190026Z
UID:10000520-1722614400-1722621600@sinkersbeverages.com
SUMMARY:Nelson's Greenbrier Whiskey
DESCRIPTION:Locally awned and mighty tasty.
URL:https://sinkersbeverages.com/event/nelsons-greenbrier-whiskey/
ATTACH;FMTTYPE=image/jpeg:https://sinkersbeverages.com/wp-content/uploads/2022/10/Nelsons-Greenbrier.jpg
END:VEVENT
BEGIN:VEVENT
DTSTART;TZID=America/Chicago:20240803T110000
DTEND;TZID=America/Chicago:20240803T140000
DTSTAMP:20260422T075021
CREATED:20240726T190213Z
LAST-MODIFIED:20240726T191012Z
UID:10000521-1722682800-1722693600@sinkersbeverages.com
SUMMARY:Campesino Rum
DESCRIPTION:What the world needs now is Rum\, Sweet Rum.
URL:https://sinkersbeverages.com/event/campesino-rum-2/
ATTACH;FMTTYPE=image/jpeg:https://sinkersbeverages.com/wp-content/uploads/2024/07/campesino.jpeg
END:VEVENT
BEGIN:VEVENT
DTSTART;TZID=America/Chicago:20240803T120000
DTEND;TZID=America/Chicago:20240803T150000
DTSTAMP:20260422T075021
CREATED:20240726T190834Z
LAST-MODIFIED:20240726T191035Z
UID:10000523-1722686400-1722697200@sinkersbeverages.com
SUMMARY:Cutwater Cocktails
DESCRIPTION:Canned cocktails are good for you. Its a proven medical fact.
URL:https://sinkersbeverages.com/event/cutwater-cocktails/
ATTACH;FMTTYPE=image/jpeg:https://sinkersbeverages.com/wp-content/uploads/2022/05/cullen-jones-el-_n2NaM9k-unsplash-scaled.jpg
END:VEVENT
BEGIN:VEVENT
DTSTART;TZID=America/Chicago:20240803T150000
DTEND;TZID=America/Chicago:20240803T170000
DTSTAMP:20260422T075021
CREATED:20240726T190425Z
LAST-MODIFIED:20240726T191057Z
UID:10000522-1722697200-1722704400@sinkersbeverages.com
SUMMARY:El Siempre Tequila
DESCRIPTION:Tequila Time!
URL:https://sinkersbeverages.com/event/el-siempre-tequila/
ATTACH;FMTTYPE=image/jpeg:https://sinkersbeverages.com/wp-content/uploads/2023/05/siempre-tequila.jpg
END:VEVENT
BEGIN:VEVENT
DTSTART;TZID=America/Chicago:20240807T160000
DTEND;TZID=America/Chicago:20240807T180000
DTSTAMP:20260422T075021
CREATED:20240806T214952Z
LAST-MODIFIED:20240806T214952Z
UID:10000524-1723046400-1723053600@sinkersbeverages.com
SUMMARY:Cann Cannabis
DESCRIPTION:Delicious cannabis based cocktails.
URL:https://sinkersbeverages.com/event/cann-cannabis/
ATTACH;FMTTYPE=image/jpeg:https://sinkersbeverages.com/wp-content/uploads/2024/08/cann.jpeg
END:VEVENT
BEGIN:VEVENT
DTSTART;TZID=America/Chicago:20240808T160000
DTEND;TZID=America/Chicago:20240808T180000
DTSTAMP:20260422T075021
CREATED:20240806T215342Z
LAST-MODIFIED:20240806T215342Z
UID:10000525-1723132800-1723140000@sinkersbeverages.com
SUMMARY:Monk's Road Gin
DESCRIPTION:Great gin from Kentucky.
URL:https://sinkersbeverages.com/event/monks-road-gin/
ATTACH;FMTTYPE=image/jpeg:https://sinkersbeverages.com/wp-content/uploads/2024/08/monks.jpeg
END:VEVENT
BEGIN:VEVENT
DTSTART;TZID=America/Chicago:20240809T130000
DTEND;TZID=America/Chicago:20240809T160000
DTSTAMP:20260422T075021
CREATED:20240806T220230Z
LAST-MODIFIED:20240806T220230Z
UID:10000526-1723208400-1723219200@sinkersbeverages.com
SUMMARY:Traveller Whiskey
DESCRIPTION:Collab between Buffalo Trace and Chris Stapleton.
URL:https://sinkersbeverages.com/event/traveller-whiskey-2/
ATTACH;FMTTYPE=image/webp:https://sinkersbeverages.com/wp-content/uploads/2024/06/Traveller-blended-whiskey-v1-scaled.webp
END:VEVENT
BEGIN:VEVENT
DTSTART;TZID=America/Chicago:20240809T150000
DTEND;TZID=America/Chicago:20240809T180000
DTSTAMP:20260422T075021
CREATED:20240809T142424Z
LAST-MODIFIED:20240809T142424Z
UID:10000527-1723215600-1723226400@sinkersbeverages.com
SUMMARY:Viva Agave Spirit
DESCRIPTION:Exceptional Agave Spirit at an unbelievable price. Essentially it is Tequila made from 100% Blue Agave grown in Jalisco\, just not in the denominated areas – so it’s not called Tequila. It’s made by the family that makes Cantera Negra Tequila – so you know it’s exceptional. This is the best value buy out there.
URL:https://sinkersbeverages.com/event/viva-agave-spirit/
ATTACH;FMTTYPE=image/jpeg:https://sinkersbeverages.com/wp-content/uploads/2024/08/vivaagave.jpeg
END:VEVENT
BEGIN:VEVENT
DTSTART;TZID=America/Chicago:20240809T160000
DTEND;TZID=America/Chicago:20240809T190000
DTSTAMP:20260422T075021
CREATED:20240809T142700Z
LAST-MODIFIED:20240809T142700Z
UID:10000528-1723219200-1723230000@sinkersbeverages.com
SUMMARY:3CHI Cannabis
DESCRIPTION:Yay Cannabis!
URL:https://sinkersbeverages.com/event/3chi-cannabis/
ATTACH;FMTTYPE=image/webp:https://sinkersbeverages.com/wp-content/uploads/2024/05/3Chi_D8_Gummy_Group_633x800.webp
END:VEVENT
BEGIN:VEVENT
DTSTART;TZID=America/Chicago:20240809T160000
DTEND;TZID=America/Chicago:20240809T190000
DTSTAMP:20260422T075021
CREATED:20240809T143130Z
LAST-MODIFIED:20240809T143130Z
UID:10000529-1723219200-1723230000@sinkersbeverages.com
SUMMARY:YOCO Vodka
DESCRIPTION:Young Country Vodka. Makes perfect sense.
URL:https://sinkersbeverages.com/event/yoco-vodka-4/
ATTACH;FMTTYPE=image/jpeg:https://sinkersbeverages.com/wp-content/uploads/2024/04/yoco.jpeg
END:VEVENT
BEGIN:VEVENT
DTSTART;TZID=America/Chicago:20240810T120000
DTEND;TZID=America/Chicago:20240810T150000
DTSTAMP:20260422T075021
CREATED:20240809T143719Z
LAST-MODIFIED:20240809T143719Z
UID:10000530-1723291200-1723302000@sinkersbeverages.com
SUMMARY:Chattanooga Whiskey
DESCRIPTION:Killer Whiskey from our friends down the road in Chattanooga!
URL:https://sinkersbeverages.com/event/chattanooga-whiskey-2/
ATTACH;FMTTYPE=image/jpeg:https://sinkersbeverages.com/wp-content/uploads/2022/10/Chattanooga-Whiskey.jpg
END:VEVENT
BEGIN:VEVENT
DTSTART;TZID=America/Chicago:20240810T160000
DTEND;TZID=America/Chicago:20240810T190000
DTSTAMP:20260422T075021
CREATED:20240809T143845Z
LAST-MODIFIED:20240809T143845Z
UID:10000531-1723305600-1723316400@sinkersbeverages.com
SUMMARY:Green River Bourbon
DESCRIPTION:Its tasty!
URL:https://sinkersbeverages.com/event/green-river-bourbon/
ATTACH;FMTTYPE=image/png:https://sinkersbeverages.com/wp-content/uploads/2022/09/Green-River-Bourbon.png
END:VEVENT
BEGIN:VEVENT
DTSTART;TZID=America/Chicago:20240815T160000
DTEND;TZID=America/Chicago:20240815T190000
DTSTAMP:20260422T075021
CREATED:20240815T200113Z
LAST-MODIFIED:20240815T200113Z
UID:10000532-1723737600-1723748400@sinkersbeverages.com
SUMMARY:Find Wunder
DESCRIPTION:Delicious THC Cannabis drinks.
URL:https://sinkersbeverages.com/event/find-wunder-3/
ATTACH;FMTTYPE=image/png:https://sinkersbeverages.com/wp-content/uploads/2024/05/find-wunder-find-wunder-higher-vibes-watermelon-ba.jpg.png
END:VEVENT
BEGIN:VEVENT
DTSTART;TZID=America/Chicago:20240819T000000
DTEND;TZID=America/Chicago:20240819T000000
DTSTAMP:20260422T075021
CREATED:20240819T165500Z
LAST-MODIFIED:20240819T165500Z
UID:10000533-1724025600-1724025600@sinkersbeverages.com
SUMMARY:Cantrip THC Beverages
DESCRIPTION:All Cantrip drinks are made with naturally-extracted THC\, which means you can enjoy the ride without anything synthetic; direct from the plant to you.\n‍\nAnd\, because Cantrip is made with THC derived from hemp\, it’s legal in most states.
URL:https://sinkersbeverages.com/event/cantrip-thc-beverages/
ATTACH;FMTTYPE=image/jpeg:https://sinkersbeverages.com/wp-content/uploads/2024/04/Unknown.jpeg
END:VEVENT
BEGIN:VEVENT
DTSTART;TZID=America/Chicago:20240822T160000
DTEND;TZID=America/Chicago:20240822T180000
DTSTAMP:20260422T075021
CREATED:20240819T170553Z
LAST-MODIFIED:20240819T170553Z
UID:10000534-1724342400-1724349600@sinkersbeverages.com
SUMMARY:Tin Cup Whiskey
DESCRIPTION:Great American Whiskey from Colorado.
URL:https://sinkersbeverages.com/event/tin-cup-whiskey/
ATTACH;FMTTYPE=image/jpeg:https://sinkersbeverages.com/wp-content/uploads/2024/08/tincup.jpeg
END:VEVENT
BEGIN:VEVENT
DTSTART;TZID=America/Chicago:20240911T160000
DTEND;TZID=America/Chicago:20240911T190000
DTSTAMP:20260422T075021
CREATED:20240909T210124Z
LAST-MODIFIED:20240909T210124Z
UID:10000535-1726070400-1726081200@sinkersbeverages.com
SUMMARY:Keef Cannabis Sodas
DESCRIPTION:Classic Flavors with a nice mellow buzz!
URL:https://sinkersbeverages.com/event/keef-cannabis-sodas/
ATTACH;FMTTYPE=image/jpeg:https://sinkersbeverages.com/wp-content/uploads/2024/09/keef.jpeg
END:VEVENT
BEGIN:VEVENT
DTSTART;TZID=America/Chicago:20240912T110000
DTEND;TZID=America/Chicago:20240912T140000
DTSTAMP:20260422T075021
CREATED:20240912T144910Z
LAST-MODIFIED:20240912T144910Z
UID:10000536-1726138800-1726149600@sinkersbeverages.com
SUMMARY:Cuervo Devil's Reserve
DESCRIPTION:Its New! Stop on by!
URL:https://sinkersbeverages.com/event/cuervo-devils-reserve/
ATTACH;FMTTYPE=image/jpeg:https://sinkersbeverages.com/wp-content/uploads/2024/09/cuervo-today.jpg
END:VEVENT
END:VCALENDAR