BEGIN:VCALENDAR
VERSION:2.0
PRODID:-//Sinkers Beverages - ECPv6.15.20//NONSGML v1.0//EN
CALSCALE:GREGORIAN
METHOD:PUBLISH
X-ORIGINAL-URL:https://sinkersbeverages.com
X-WR-CALDESC:Events for Sinkers Beverages
REFRESH-INTERVAL;VALUE=DURATION:PT1H
X-Robots-Tag:noindex
X-PUBLISHED-TTL:PT1H
BEGIN:VTIMEZONE
TZID:America/Chicago
BEGIN:DAYLIGHT
TZOFFSETFROM:-0600
TZOFFSETTO:-0500
TZNAME:CDT
DTSTART:20230312T080000
END:DAYLIGHT
BEGIN:STANDARD
TZOFFSETFROM:-0500
TZOFFSETTO:-0600
TZNAME:CST
DTSTART:20231105T070000
END:STANDARD
BEGIN:DAYLIGHT
TZOFFSETFROM:-0600
TZOFFSETTO:-0500
TZNAME:CDT
DTSTART:20240310T080000
END:DAYLIGHT
BEGIN:STANDARD
TZOFFSETFROM:-0500
TZOFFSETTO:-0600
TZNAME:CST
DTSTART:20241103T070000
END:STANDARD
BEGIN:DAYLIGHT
TZOFFSETFROM:-0600
TZOFFSETTO:-0500
TZNAME:CDT
DTSTART:20250309T080000
END:DAYLIGHT
BEGIN:STANDARD
TZOFFSETFROM:-0500
TZOFFSETTO:-0600
TZNAME:CST
DTSTART:20251102T070000
END:STANDARD
END:VTIMEZONE
BEGIN:VEVENT
DTSTART;TZID=America/Chicago:20240921T120000
DTEND;TZID=America/Chicago:20240921T150000
DTSTAMP:20260424T112956
CREATED:20240917T191009Z
LAST-MODIFIED:20240917T191009Z
UID:10000543-1726920000-1726930800@sinkersbeverages.com
SUMMARY:Patron Tequila
DESCRIPTION:The OG Premium Tequila!
URL:https://sinkersbeverages.com/event/patron-tequila/
ATTACH;FMTTYPE=image/jpeg:https://sinkersbeverages.com/wp-content/uploads/2024/09/patron.jpeg
END:VEVENT
BEGIN:VEVENT
DTSTART;TZID=America/Chicago:20240921T160000
DTEND;TZID=America/Chicago:20240921T190000
DTSTAMP:20260424T112956
CREATED:20240917T191201Z
LAST-MODIFIED:20240917T191201Z
UID:10000544-1726934400-1726945200@sinkersbeverages.com
SUMMARY:Monk's Road
DESCRIPTION:Gin & Whiskey.
URL:https://sinkersbeverages.com/event/monks-road-2/
ATTACH;FMTTYPE=image/jpeg:https://sinkersbeverages.com/wp-content/uploads/2024/08/monks.jpeg
END:VEVENT
BEGIN:VEVENT
DTSTART;TZID=America/Chicago:20240925T160000
DTEND;TZID=America/Chicago:20240925T190000
DTSTAMP:20260424T112956
CREATED:20240920T195036Z
LAST-MODIFIED:20240920T195036Z
UID:10000545-1727280000-1727290800@sinkersbeverages.com
SUMMARY:Easy Hemp Co
DESCRIPTION:Sparkling Hemp Mineral Water!
URL:https://sinkersbeverages.com/event/easy-hemp-co/
ATTACH;FMTTYPE=image/jpeg:https://sinkersbeverages.com/wp-content/uploads/2024/09/easy.jpeg
END:VEVENT
BEGIN:VEVENT
DTSTART;TZID=America/Chicago:20240926T160000
DTEND;TZID=America/Chicago:20240926T190000
DTSTAMP:20260424T112956
CREATED:20240920T200653Z
LAST-MODIFIED:20240920T200653Z
UID:10000546-1727366400-1727377200@sinkersbeverages.com
SUMMARY:Black Sheep Tequila
DESCRIPTION:Tequila. Tequila\, and more Tequila!
URL:https://sinkersbeverages.com/event/black-sheep-tequila/
ATTACH;FMTTYPE=image/jpeg:https://sinkersbeverages.com/wp-content/uploads/2024/09/blacksheep.jpeg
END:VEVENT
BEGIN:VEVENT
DTSTART;TZID=America/Chicago:20240926T160000
DTEND;TZID=America/Chicago:20240926T190000
DTSTAMP:20260424T112956
CREATED:20240920T201844Z
LAST-MODIFIED:20240920T201844Z
UID:10000547-1727366400-1727377200@sinkersbeverages.com
SUMMARY:Waterbird Cocktails
DESCRIPTION:Fun canned cocktails!
URL:https://sinkersbeverages.com/event/waterbird-cocktails-2/
ATTACH;FMTTYPE=image/jpeg:https://sinkersbeverages.com/wp-content/uploads/2022/11/Waterbird.jpg
END:VEVENT
BEGIN:VEVENT
DTSTART;TZID=America/Chicago:20241008T160000
DTEND;TZID=America/Chicago:20241008T180000
DTSTAMP:20260424T112956
CREATED:20241007T191945Z
LAST-MODIFIED:20241007T191945Z
UID:10000548-1728403200-1728410400@sinkersbeverages.com
SUMMARY:theoleo wines
DESCRIPTION:theoleo’s mission is to support wildlife conservation through high quality wine. We provide wine that tastes exquisite and makes a difference to animals and their ecosystems. \nWe bring forward wines from prestigious growing regions within California. Our parent company\, Give Back Wine Group\, vints and bottles the wine utilizing a state-of-the-art facility\, top-of-the-line barrel storage\, and more than 20 years of wine making experience.
URL:https://sinkersbeverages.com/event/theoleo-wines/
ATTACH;FMTTYPE=image/jpeg:https://sinkersbeverages.com/wp-content/uploads/2024/07/theoleo2020.jpg
END:VEVENT
BEGIN:VEVENT
DTSTART;TZID=America/Chicago:20241009T160000
DTEND;TZID=America/Chicago:20241009T180000
DTSTAMP:20260424T112956
CREATED:20241007T192555Z
LAST-MODIFIED:20241007T192555Z
UID:10000549-1728489600-1728496800@sinkersbeverages.com
SUMMARY:Cantrip
DESCRIPTION:All Cantrip drinks are made with naturally-extracted THC\, which means you can enjoy the ride without anything synthetic; direct from the plant to you.\n‍\nAnd\, because Cantrip is made with THC derived from hemp\, it’s legal in most states.
URL:https://sinkersbeverages.com/event/cantrip/
ATTACH;FMTTYPE=image/jpeg:https://sinkersbeverages.com/wp-content/uploads/2024/10/cantrip.jpeg
END:VEVENT
BEGIN:VEVENT
DTSTART;TZID=America/Chicago:20241010T160000
DTEND;TZID=America/Chicago:20241010T180000
DTSTAMP:20260424T112956
CREATED:20241007T195735Z
LAST-MODIFIED:20241007T195923Z
UID:10000550-1728576000-1728583200@sinkersbeverages.com
SUMMARY:Bulliet Whiskey
DESCRIPTION:Bulleit Whiskey. Delicious and distinctive.
URL:https://sinkersbeverages.com/event/bulliet-whiskey/
ATTACH;FMTTYPE=image/avif:https://sinkersbeverages.com/wp-content/uploads/2024/10/bulleit.avif
END:VEVENT
BEGIN:VEVENT
DTSTART;TZID=America/Chicago:20241011T150000
DTEND;TZID=America/Chicago:20241011T190000
DTSTAMP:20260424T112956
CREATED:20241007T201026Z
LAST-MODIFIED:20241007T201111Z
UID:10000551-1728658800-1728673200@sinkersbeverages.com
SUMMARY:Hard Truth Whiskey
DESCRIPTION:Based out of Indiana\, this is one of favorite under-the-radar distilleries. Come try our Single Barrel rye and meet master distiller Bryan Smith!
URL:https://sinkersbeverages.com/event/hard-truth-whiskey/
ATTACH;FMTTYPE=image/jpeg:https://sinkersbeverages.com/wp-content/uploads/2024/03/hard-truth.jpg
END:VEVENT
BEGIN:VEVENT
DTSTART;TZID=America/Chicago:20241016T160000
DTEND;TZID=America/Chicago:20241016T180000
DTSTAMP:20260424T112956
CREATED:20241014T155522Z
LAST-MODIFIED:20241014T155522Z
UID:10000552-1729094400-1729101600@sinkersbeverages.com
SUMMARY:Howdy Cannabis Soda
DESCRIPTION:Howdy! On sale 10% off all day the 16th!
URL:https://sinkersbeverages.com/event/howdy-cannabis-soda/
ATTACH;FMTTYPE=image/jpeg:https://sinkersbeverages.com/wp-content/uploads/2024/09/howdy.jpeg
END:VEVENT
BEGIN:VEVENT
DTSTART;TZID=America/Chicago:20241017T160000
DTEND;TZID=America/Chicago:20241017T180000
DTSTAMP:20260424T112956
CREATED:20241014T160345Z
LAST-MODIFIED:20241014T160345Z
UID:10000553-1729180800-1729188000@sinkersbeverages.com
SUMMARY:Angel's Envy Tasting
DESCRIPTION:Who’s Angel? And what exactly is he envious of?
URL:https://sinkersbeverages.com/event/angels-envy-tasting/
ATTACH;FMTTYPE=image/jpeg:https://sinkersbeverages.com/wp-content/uploads/2022/08/angelsenvyog.jpeg
END:VEVENT
BEGIN:VEVENT
DTSTART;TZID=America/Chicago:20241017T160000
DTEND;TZID=America/Chicago:20241017T180000
DTSTAMP:20260424T112956
CREATED:20241014T162304Z
LAST-MODIFIED:20241014T162304Z
UID:10000554-1729180800-1729188000@sinkersbeverages.com
SUMMARY:Upstate Vodka Tasting
DESCRIPTION:Its from Upstate. Vodka. Tasting.
URL:https://sinkersbeverages.com/event/upstate-vodka-tasting/
ATTACH;FMTTYPE=image/jpeg:https://sinkersbeverages.com/wp-content/uploads/2024/10/Upstate.jpeg
END:VEVENT
BEGIN:VEVENT
DTSTART;TZID=America/Chicago:20241017T160000
DTEND;TZID=America/Chicago:20241017T190000
DTSTAMP:20260424T112956
CREATED:20241017T163716Z
LAST-MODIFIED:20241017T163716Z
UID:10000555-1729180800-1729191600@sinkersbeverages.com
SUMMARY:Easy Hemp
DESCRIPTION:The easiest hemp!\nOur Hemp-Infused Sparkling Mineral Water is packed full of natural goodness and spiked with 100% Hemp-Derived Cannabinoids. Utilizing all natural ingredients highlighted by fresh fruit\, low calories and no added sugar\, our beverages ensure good times without the negative health effects.
URL:https://sinkersbeverages.com/event/easy-hemp/
ATTACH;FMTTYPE=image/jpeg:https://sinkersbeverages.com/wp-content/uploads/2024/09/easy.jpeg
END:VEVENT
BEGIN:VEVENT
DTSTART;TZID=America/Chicago:20241018T150000
DTEND;TZID=America/Chicago:20241018T180000
DTSTAMP:20260424T112956
CREATED:20241017T163957Z
LAST-MODIFIED:20241017T163957Z
UID:10000556-1729263600-1729274400@sinkersbeverages.com
SUMMARY:Chattanooga Whiskey Co.
DESCRIPTION:One of our favorite TN distilleries!
URL:https://sinkersbeverages.com/event/chattanooga-whiskey-co/
ATTACH;FMTTYPE=image/jpeg:https://sinkersbeverages.com/wp-content/uploads/2022/10/Chattanooga-Whiskey.jpg
END:VEVENT
BEGIN:VEVENT
DTSTART;TZID=America/Chicago:20241018T160000
DTEND;TZID=America/Chicago:20241018T190000
DTSTAMP:20260424T112956
CREATED:20241017T164117Z
LAST-MODIFIED:20241017T164117Z
UID:10000557-1729267200-1729278000@sinkersbeverages.com
SUMMARY:Better Than Booze
DESCRIPTION:Its like booze\, but better!
URL:https://sinkersbeverages.com/event/better-than-booze/
ATTACH;FMTTYPE=image/jpeg:https://sinkersbeverages.com/wp-content/uploads/2022/10/Better-Than-Booze.jpg
END:VEVENT
BEGIN:VEVENT
DTSTART;TZID=America/Chicago:20241018T160000
DTEND;TZID=America/Chicago:20241018T190000
DTSTAMP:20260424T112956
CREATED:20241017T165234Z
LAST-MODIFIED:20241017T165234Z
UID:10000558-1729267200-1729278000@sinkersbeverages.com
SUMMARY:Siempre Tequila
DESCRIPTION:Delicious delicious Tequila!
URL:https://sinkersbeverages.com/event/siempre-tequila/
ATTACH;FMTTYPE=image/jpeg:https://sinkersbeverages.com/wp-content/uploads/2023/05/siempre-tequila.jpg
END:VEVENT
BEGIN:VEVENT
DTSTART;TZID=America/Chicago:20241023T160000
DTEND;TZID=America/Chicago:20241023T180000
DTSTAMP:20260424T112956
CREATED:20241022T180616Z
LAST-MODIFIED:20241022T180616Z
UID:10000559-1729699200-1729706400@sinkersbeverages.com
SUMMARY:Snapdragon Canna Bliss Seltzer
DESCRIPTION:Our new CANNA BLISS line of sparkling infused water is made with our RINS9 (Rapid Intake Nano-Sonic Delta-9 THC) extract. This premium cannabis-infused beverage works almost twice as fast as standard edibles; this ultra-fine water-soluble THC is absorbed first in your mouth\, which means it kicks in and fades out quickly.
URL:https://sinkersbeverages.com/event/snapdragon-canna-bliss-seltzer/
ATTACH;FMTTYPE=image/jpeg:https://sinkersbeverages.com/wp-content/uploads/2024/10/snapdragon.jpeg
END:VEVENT
BEGIN:VEVENT
DTSTART;TZID=America/Chicago:20241024T160000
DTEND;TZID=America/Chicago:20241024T190000
DTSTAMP:20260424T112956
CREATED:20241022T180914Z
LAST-MODIFIED:20241022T180914Z
UID:10000560-1729785600-1729796400@sinkersbeverages.com
SUMMARY:Barman Cocktails
DESCRIPTION:Your favorite cocktails in a can.
URL:https://sinkersbeverages.com/event/barman-cocktails/
ATTACH;FMTTYPE=image/jpeg:https://sinkersbeverages.com/wp-content/uploads/2024/10/barman.jpeg
END:VEVENT
BEGIN:VEVENT
DTSTART;TZID=America/Chicago:20241024T160000
DTEND;TZID=America/Chicago:20241024T190000
DTSTAMP:20260424T112956
CREATED:20241022T181046Z
LAST-MODIFIED:20241022T181046Z
UID:10000561-1729785600-1729796400@sinkersbeverages.com
SUMMARY:Green River Bourbon
DESCRIPTION:Delicious Bourbon!
URL:https://sinkersbeverages.com/event/green-river-bourbon-2/
ATTACH;FMTTYPE=image/png:https://sinkersbeverages.com/wp-content/uploads/2022/09/Green-River-Bourbon.png
END:VEVENT
BEGIN:VEVENT
DTSTART;TZID=America/Chicago:20241024T160000
DTEND;TZID=America/Chicago:20241024T190000
DTSTAMP:20260424T112956
CREATED:20241022T181536Z
LAST-MODIFIED:20241022T181536Z
UID:10000562-1729785600-1729796400@sinkersbeverages.com
SUMMARY:Los Sundays Tequila
DESCRIPTION:Mmmm Tequila.
URL:https://sinkersbeverages.com/event/los-sundays-tequila-2/
ATTACH;FMTTYPE=image/jpeg:https://sinkersbeverages.com/wp-content/uploads/2024/04/Los-Sundays-scaled-1.jpg
END:VEVENT
BEGIN:VEVENT
DTSTART;TZID=America/Chicago:20241025T130000
DTEND;TZID=America/Chicago:20241025T160000
DTSTAMP:20260424T112956
CREATED:20241022T181820Z
LAST-MODIFIED:20241022T181820Z
UID:10000563-1729861200-1729872000@sinkersbeverages.com
SUMMARY:Bib & Tucker Whiskey
DESCRIPTION:Its mighty tasty.
URL:https://sinkersbeverages.com/event/bib-tucker-whiskey/
ATTACH;FMTTYPE=image/jpeg:https://sinkersbeverages.com/wp-content/uploads/2024/10/bibtuck.jpeg
END:VEVENT
BEGIN:VEVENT
DTSTART;TZID=America/Chicago:20241025T160000
DTEND;TZID=America/Chicago:20241025T190000
DTSTAMP:20260424T112956
CREATED:20241022T182054Z
LAST-MODIFIED:20241022T182054Z
UID:10000444-1729872000-1729882800@sinkersbeverages.com
SUMMARY:Mirat Rum
DESCRIPTION:Its a local favorite!!!
URL:https://sinkersbeverages.com/event/mirat-rum-5/
ATTACH;FMTTYPE=image/jpeg:https://sinkersbeverages.com/wp-content/uploads/2022/10/Mirat-Rum.jpg
END:VEVENT
BEGIN:VEVENT
DTSTART;TZID=America/Chicago:20241025T160000
DTEND;TZID=America/Chicago:20241025T190000
DTSTAMP:20260424T112956
CREATED:20241022T182232Z
LAST-MODIFIED:20241022T182232Z
UID:10000445-1729872000-1729882800@sinkersbeverages.com
SUMMARY:Creature Comforts Brewing
DESCRIPTION:That’s some tasty beer!
URL:https://sinkersbeverages.com/event/creature-comforts-brewing/
ATTACH;FMTTYPE=image/jpeg:https://sinkersbeverages.com/wp-content/uploads/2023/03/Creature-Comforts-Beer.jpg
END:VEVENT
BEGIN:VEVENT
DTSTART;TZID=America/Chicago:20241026T120000
DTEND;TZID=America/Chicago:20241026T150000
DTSTAMP:20260424T112956
CREATED:20241025T143038Z
LAST-MODIFIED:20241025T143038Z
UID:10000446-1729944000-1729954800@sinkersbeverages.com
SUMMARY:Epic Western Cocktails
DESCRIPTION:Delicious canned cocktails from Austin Texas.
URL:https://sinkersbeverages.com/event/epic-western-cocktails-2/
ATTACH;FMTTYPE=image/png:https://sinkersbeverages.com/wp-content/uploads/2022/11/Epic-Western.png
END:VEVENT
BEGIN:VEVENT
DTSTART;TZID=America/Chicago:20241026T120000
DTEND;TZID=America/Chicago:20241026T150000
DTSTAMP:20260424T112956
CREATED:20241025T143314Z
LAST-MODIFIED:20241025T143314Z
UID:10000447-1729944000-1729954800@sinkersbeverages.com
SUMMARY:Suerte Tequila
DESCRIPTION:Trust the Bunny!!!
URL:https://sinkersbeverages.com/event/suerte-tequila/
ATTACH;FMTTYPE=image/jpeg:https://sinkersbeverages.com/wp-content/uploads/2024/10/suerte.jpeg
END:VEVENT
BEGIN:VEVENT
DTSTART;TZID=America/Chicago:20241026T160000
DTEND;TZID=America/Chicago:20241026T190000
DTSTAMP:20260424T112956
CREATED:20241025T143425Z
LAST-MODIFIED:20241025T143425Z
UID:10000449-1729958400-1729969200@sinkersbeverages.com
SUMMARY:Artet Cannabis Drinks
DESCRIPTION:Tasty and buzzy!
URL:https://sinkersbeverages.com/event/artet-cannabis-drinks/
ATTACH;FMTTYPE=image/jpeg:https://sinkersbeverages.com/wp-content/uploads/2024/05/ARTET_Hemp-Starter-Pack_VertWhite-scaled-1.jpg
END:VEVENT
BEGIN:VEVENT
DTSTART;TZID=America/Chicago:20241026T160000
DTEND;TZID=America/Chicago:20241026T190000
DTSTAMP:20260424T112956
CREATED:20241025T143602Z
LAST-MODIFIED:20241025T143602Z
UID:10000451-1729958400-1729969200@sinkersbeverages.com
SUMMARY:New Riff Bourbon
DESCRIPTION:Delicious whiskey!
URL:https://sinkersbeverages.com/event/new-riff-bourbon/
ATTACH;FMTTYPE=image/jpeg:https://sinkersbeverages.com/wp-content/uploads/2022/04/sinkers-whiskey.jpg
END:VEVENT
BEGIN:VEVENT
DTSTART;TZID=America/Chicago:20241029T160000
DTEND;TZID=America/Chicago:20241029T180000
DTSTAMP:20260424T112956
CREATED:20241029T173015Z
LAST-MODIFIED:20241029T173015Z
UID:10000453-1730217600-1730224800@sinkersbeverages.com
SUMMARY:theoleo wines
DESCRIPTION:tasty and sustainable!
URL:https://sinkersbeverages.com/event/theoleo-wines-2/
ATTACH;FMTTYPE=image/jpeg:https://sinkersbeverages.com/wp-content/uploads/2024/10/theoleo2020.jpg
END:VEVENT
BEGIN:VEVENT
DTSTART;TZID=America/Chicago:20241030T160000
DTEND;TZID=America/Chicago:20241030T180000
DTSTAMP:20260424T112956
CREATED:20241029T173443Z
LAST-MODIFIED:20241029T173443Z
UID:10000454-1730304000-1730311200@sinkersbeverages.com
SUMMARY:Find Wunder Cannabis Beverages
DESCRIPTION:Some of our favorites! Very tasty. Happy Weedsday!
URL:https://sinkersbeverages.com/event/find-wunder-cannabis-beverages-2/
ATTACH;FMTTYPE=image/png:https://sinkersbeverages.com/wp-content/uploads/2024/05/find-wunder-find-wunder-higher-vibes-watermelon-ba.jpg.png
END:VEVENT
BEGIN:VEVENT
DTSTART;TZID=America/Chicago:20241101T160000
DTEND;TZID=America/Chicago:20241101T190000
DTSTAMP:20260424T112956
CREATED:20241029T175612Z
LAST-MODIFIED:20241029T175612Z
UID:10000456-1730476800-1730487600@sinkersbeverages.com
SUMMARY:Boones Bourbon
DESCRIPTION:Bourbon from a distillery that we assume has all the proper licensing.
URL:https://sinkersbeverages.com/event/boones-bourbon-2/
ATTACH;FMTTYPE=image/jpeg:https://sinkersbeverages.com/wp-content/uploads/2024/05/Boones-Bourbon-Homegrown-Whiskey-750x563-1.jpg
END:VEVENT
END:VCALENDAR